BEGIN:VCALENDAR
VERSION:2.0
PRODID:-//PAJU - ECPv6.15.11//NONSGML v1.0//EN
CALSCALE:GREGORIAN
METHOD:PUBLISH
X-WR-CALNAME:PAJU
X-ORIGINAL-URL:https://paju.org/fr/
X-WR-CALDESC:Évènements pour PAJU
REFRESH-INTERVAL;VALUE=DURATION:PT1H
X-Robots-Tag:noindex
X-PUBLISHED-TTL:PT1H
BEGIN:VTIMEZONE
TZID:America/New_York
BEGIN:DAYLIGHT
TZOFFSETFROM:-0500
TZOFFSETTO:-0400
TZNAME:EDT
DTSTART:20230312T070000
END:DAYLIGHT
BEGIN:STANDARD
TZOFFSETFROM:-0400
TZOFFSETTO:-0500
TZNAME:EST
DTSTART:20231105T060000
END:STANDARD
BEGIN:DAYLIGHT
TZOFFSETFROM:-0500
TZOFFSETTO:-0400
TZNAME:EDT
DTSTART:20240310T070000
END:DAYLIGHT
BEGIN:STANDARD
TZOFFSETFROM:-0400
TZOFFSETTO:-0500
TZNAME:EST
DTSTART:20241103T060000
END:STANDARD
BEGIN:DAYLIGHT
TZOFFSETFROM:-0500
TZOFFSETTO:-0400
TZNAME:EDT
DTSTART:20250309T070000
END:DAYLIGHT
BEGIN:STANDARD
TZOFFSETFROM:-0400
TZOFFSETTO:-0500
TZNAME:EST
DTSTART:20251102T060000
END:STANDARD
END:VTIMEZONE
BEGIN:VEVENT
DTSTART;TZID=America/New_York:20240411T160000
DTEND;TZID=America/New_York:20240411T173000
DTSTAMP:20260420T081230
CREATED:20240408T143226Z
LAST-MODIFIED:20240408T151753Z
UID:252285-1712851200-1712856600@paju.org
SUMMARY:Vigile de PAJU et la diffusion des dépliants
DESCRIPTION:LA PORTE D’ENTRÉE RODDICK DE L’UNIVERSITÉ DE MCGILL \nVigile et distribution de tracts le 11 avril de 16:00 à 17:30 devant la porte d’entrée Roddick de l’Université de McGill au coin des rues Sherbrooke et McGill College. (métro MCGILL).  \n Veuillez participer avec nous en soutien au peuple Palestinien.  \n Si la gréve des enseignant.es continue et des grévistes sont à la porte d’entrée Roddick\, nous irons devant la banque scotia \, 1002 Sherbrooke St W corner Metcalfe METRO PEEL. \n 
URL:https://paju.org/fr/event/252285/
LOCATION:Roddick Gate McGill university\, 15a Sherbrooke St. West\, Montreal\, Quebec\, H3A2K6\, Canada
CATEGORIES:Vigile
END:VEVENT
END:VCALENDAR